BEGIN:VCALENDAR
VERSION:2.0
PRODID:-//TC-Erdmannhausen - ECPv6.15.20//NONSGML v1.0//EN
CALSCALE:GREGORIAN
METHOD:PUBLISH
X-ORIGINAL-URL:https://tc-erdmannhausen.de
X-WR-CALDESC:Veranstaltungen für TC-Erdmannhausen
REFRESH-INTERVAL;VALUE=DURATION:PT1H
X-Robots-Tag:noindex
X-PUBLISHED-TTL:PT1H
BEGIN:VTIMEZONE
TZID:Europe/Berlin
BEGIN:DAYLIGHT
TZOFFSETFROM:+0100
TZOFFSETTO:+0200
TZNAME:CEST
DTSTART:20210328T010000
END:DAYLIGHT
BEGIN:STANDARD
TZOFFSETFROM:+0200
TZOFFSETTO:+0100
TZNAME:CET
DTSTART:20211031T010000
END:STANDARD
BEGIN:DAYLIGHT
TZOFFSETFROM:+0100
TZOFFSETTO:+0200
TZNAME:CEST
DTSTART:20220327T010000
END:DAYLIGHT
BEGIN:STANDARD
TZOFFSETFROM:+0200
TZOFFSETTO:+0100
TZNAME:CET
DTSTART:20221030T010000
END:STANDARD
BEGIN:DAYLIGHT
TZOFFSETFROM:+0100
TZOFFSETTO:+0200
TZNAME:CEST
DTSTART:20230326T010000
END:DAYLIGHT
BEGIN:STANDARD
TZOFFSETFROM:+0200
TZOFFSETTO:+0100
TZNAME:CET
DTSTART:20231029T010000
END:STANDARD
END:VTIMEZONE
BEGIN:VEVENT
DTSTART;TZID=Europe/Berlin:20221111T190000
DTEND;TZID=Europe/Berlin:20221111T230000
DTSTAMP:20260425T181752
CREATED:20220927T100638Z
LAST-MODIFIED:20220927T100638Z
UID:3758-1668193200-1668207600@tc-erdmannhausen.de
SUMMARY:Skat
DESCRIPTION:Liebe Skatfreunde\, \ndie Sommer-Tennissaison geht langsam zu Ende.\nDie Winter-Skatsaison beginnt. \nIch lade euch ein\, an unseren künftigen Skatabenden (endlich) wieder teilzunehmen. \nWie üblich spielen wir jeden Monat\, jeweils freitags um 19.00 Uhr\nUnd zwar dieses Jahr zu folgenden Terminen \n14. Oktober \n11. November \n09. Dezember \nBitte merkt schon mal die genannten Termine vor.\nIch werde euch jeweils ca. 1 Woche zuvor nochmals daran erinnern und um Zusage/Absage bitten. \nViele Grüße\nReinhold
URL:https://tc-erdmannhausen.de/event/skat-2
LOCATION:TCE
ORGANIZER;CN="Reinhold":MAILTO:reinhold.engesser.extern@mann-hummel.com
END:VEVENT
BEGIN:VEVENT
DTSTART;TZID=Europe/Berlin:20221119T090000
DTEND;TZID=Europe/Berlin:20221119T150000
DTSTAMP:20260425T181752
CREATED:20221108T215214Z
LAST-MODIFIED:20221108T215214Z
UID:3797-1668848400-1668870000@tc-erdmannhausen.de
SUMMARY:Arbeitsdienst
DESCRIPTION:Winterfest machen der Anlage und Plätze ab 9 Uhr auf der Anlage
URL:https://tc-erdmannhausen.de/event/arbeitsdienst-2
END:VEVENT
END:VCALENDAR