BEGIN:VCALENDAR
VERSION:2.0
PRODID:-//TC-Erdmannhausen - ECPv6.15.20//NONSGML v1.0//EN
CALSCALE:GREGORIAN
METHOD:PUBLISH
X-WR-CALNAME:TC-Erdmannhausen
X-ORIGINAL-URL:https://tc-erdmannhausen.de
X-WR-CALDESC:Veranstaltungen für TC-Erdmannhausen
REFRESH-INTERVAL;VALUE=DURATION:PT1H
X-Robots-Tag:noindex
X-PUBLISHED-TTL:PT1H
BEGIN:VTIMEZONE
TZID:Europe/Berlin
BEGIN:DAYLIGHT
TZOFFSETFROM:+0100
TZOFFSETTO:+0200
TZNAME:CEST
DTSTART:20220327T010000
END:DAYLIGHT
BEGIN:STANDARD
TZOFFSETFROM:+0200
TZOFFSETTO:+0100
TZNAME:CET
DTSTART:20221030T010000
END:STANDARD
BEGIN:DAYLIGHT
TZOFFSETFROM:+0100
TZOFFSETTO:+0200
TZNAME:CEST
DTSTART:20230326T010000
END:DAYLIGHT
BEGIN:STANDARD
TZOFFSETFROM:+0200
TZOFFSETTO:+0100
TZNAME:CET
DTSTART:20231029T010000
END:STANDARD
BEGIN:DAYLIGHT
TZOFFSETFROM:+0100
TZOFFSETTO:+0200
TZNAME:CEST
DTSTART:20240331T010000
END:DAYLIGHT
BEGIN:STANDARD
TZOFFSETFROM:+0200
TZOFFSETTO:+0100
TZNAME:CET
DTSTART:20241027T010000
END:STANDARD
END:VTIMEZONE
BEGIN:VEVENT
DTSTART;TZID=Europe/Berlin:20230812T170000
DTEND;TZID=Europe/Berlin:20230812T235900
DTSTAMP:20260421T105729
CREATED:20230202T200405Z
LAST-MODIFIED:20230713T211127Z
UID:3856-1691859600-1691884740@tc-erdmannhausen.de
SUMMARY:Mitternachtsturnier
DESCRIPTION:Der Klassiker ist wieder da  – nach langer Coronapause
URL:https://tc-erdmannhausen.de/event/mitternachtsturnier
END:VEVENT
END:VCALENDAR