BEGIN:VCALENDAR
VERSION:2.0
PRODID:-//TC-Erdmannhausen - ECPv6.15.20//NONSGML v1.0//EN
CALSCALE:GREGORIAN
METHOD:PUBLISH
X-WR-CALNAME:TC-Erdmannhausen
X-ORIGINAL-URL:https://tc-erdmannhausen.de
X-WR-CALDESC:Veranstaltungen für TC-Erdmannhausen
REFRESH-INTERVAL;VALUE=DURATION:PT1H
X-Robots-Tag:noindex
X-PUBLISHED-TTL:PT1H
BEGIN:VTIMEZONE
TZID:Europe/Berlin
BEGIN:DAYLIGHT
TZOFFSETFROM:+0100
TZOFFSETTO:+0200
TZNAME:CEST
DTSTART:20220327T010000
END:DAYLIGHT
BEGIN:STANDARD
TZOFFSETFROM:+0200
TZOFFSETTO:+0100
TZNAME:CET
DTSTART:20221030T010000
END:STANDARD
BEGIN:DAYLIGHT
TZOFFSETFROM:+0100
TZOFFSETTO:+0200
TZNAME:CEST
DTSTART:20230326T010000
END:DAYLIGHT
BEGIN:STANDARD
TZOFFSETFROM:+0200
TZOFFSETTO:+0100
TZNAME:CET
DTSTART:20231029T010000
END:STANDARD
BEGIN:DAYLIGHT
TZOFFSETFROM:+0100
TZOFFSETTO:+0200
TZNAME:CEST
DTSTART:20240331T010000
END:DAYLIGHT
BEGIN:STANDARD
TZOFFSETFROM:+0200
TZOFFSETTO:+0100
TZNAME:CET
DTSTART:20241027T010000
END:STANDARD
END:VTIMEZONE
BEGIN:VEVENT
DTSTART;TZID=Europe/Berlin:20230603T080000
DTEND;TZID=Europe/Berlin:20230610T170000
DTSTAMP:20260423T135759
CREATED:20230301T165847Z
LAST-MODIFIED:20230301T165847Z
UID:3900-1685779200-1686416400@tc-erdmannhausen.de
SUMMARY:Tenniscamp – Sportreise Pfingstferien 2023
DESCRIPTION:Liebe Tennisfreundinnen und Tennisfreunde\, \ndie Tennisschule Ivascu organisiert in der zweiten Pfingstferienwoche von Samstag\, den 03. Juni 2023 bis Samstag\, den 10. Juni 2023 (7 Übernachtungen) eine Reise für alle Tennis-/Sport- und Reise-Interessierte\, Familien und Mannschaften nach Südkärnten/Klopeiner See. Südkärnten ist beliebt durch sein mildes und mediterran beeinflusstes Klima. \nWir übernachten im Hotel Marko am Klopeiner See\, ein besonders familiäres und sehr schönes 4-Sterne Hotel. Die Fahrzeit beträgt ca. 6 Stunden. Ich werde mit meinem Trainerteam das Tennistraining für Jugendliche und Aktive leiten. Die Tennisplätze befinden sich direkt am Hotel. \nEs gibt tolle Inliner-/Wander-/Jogging- und Mountainbike-/Radtour-Möglichkeiten sowie auch zahlreiche Ausflugsziele. Das Hotel verfügt auch über eigene Leihfahrräder. Zwei Kilometer entfernt befindet sich ein 18-Loch-Golfplatz. \nUnser Hotel:\nHotel Marko\, Ihr familiär geführtes Wohlfühlhotel am Klopeiner See…\nWohlfühlen mit Körper\, Geist und Seele am wärmsten Badesee Europas mit bis zu 28 °C Wassertemperatur.\n…deshalb schöpfen Sie neue Energie bei einer Wohlfühlpause und lassen Sie sich von uns verwöhnen.\nWir haben für Sie eine Oase des Genusses und der kleinen Erlebnisse geschaffen. Die Bedürfnisse von Familien\, Sportbegeisterten oder einfach urlaubshungrigen Gästen liegen uns am Herzen. \nwww.hotel-marko.at \nInklusivleistungen: \n\nÜbernachtung in Doppel- bzw. Einzelzimmern oder Appartements\nHalbpension-Plus (reichhaltiges Frühstücksbuffet mit Bio-Ecke\, Mittagsimbiss\, 4-gängiges Abendmenü mit Menüwahl)\nFixreservierung von Tennisplätze für die Tennisschule-Ivascu\nSauna\, Dampfbad\, Infrarotkabine\, beheiztes Schleusenbad mit Whirlpool\nfür unsere kleinen Gäste gibt es eine Playstation 2\, Spielwiese\, Spielzimmer\nInternet können Sie in der Hotelhalle gratis nutzen\nhoteleigene Fahrräder\nan der Rezeption erhalten Sie umfangreiche Informationen über die Umgebung und Ausflugsziele …\nHauseigenes Strandbad mit großer Liegewiese\, flachem Strand (ca. 1 km entfernt)\n\nNicht enthalten sind: Massagen\, verschiedenste Kosmetikbehandlungen\, Solarium und gut ausgestatteten und hervorragend gewarteten Fahrräder. \nTennistraining: \n\nTennistraining auf Sandplatz – mindestens 1 Stunde pro Tag\nZiel des Tennistrainings ist das Erreichen einer Wettkampfform\, die nach der Rückkehr den sofortigen und erfolgreichen Einstieg in das Turniertennis ermöglicht.\nVerbesserung der Technik\, Taktik\, Koordination und Kondition.\n\nLeitung: Tennisschule-Ivascu \nPaketpreise (die Infos finden Sie Unten mit Blau markiert!): \n\n\n\n\n\nTrainingspaket- Klein\n(Täglich 1 Std.Tennistraining) \nTrainingspaket- Mittel\n(Täglich 1\,5 Std. Tennistraining)\nTrainingspaket- Groß\n(Täglich 2 Std. Tennistraining)\nTrainingspaket- Leistung\n(Täglich 3 Std. Tennistraining)\n\n\nErwachsene\n         785\,-€\n          830\,-€\n         875\,-€\n         965\,-€\n\n\nKinder 13-16 Jahre\n         610\,-€\n          655\,-€\n         700\,-€\n         785\,-€\n\n\nKinder 6-12 Jahre\n         505\,-€\n          550\,-€\n         595\,-€\n         680\,-€\n\n\n\n\nDie Preise verstehen sich pro Person/Aufenthalt inkl. Ortstaxe unabhängig ob EZ\, DZ oder Apartment gebucht wird und beinhalten 6 Tage Trainingseinheiten vormittags und/oder nachmittags. Das Tennistraining findet in einer 3-er oder 4-er Trainingsgruppe statt und wird von der Tennisschule Ivascu durchgeführt. In den Preisen sind die Platzgebühren sowie Trainingsbälle & Trainingsmaterialien enthalten. Die Trainingszeiten/Trainingseinteilung werden vor Ort von der Tennisschule Ivascu bekanntgegeben. Bei den Trainingspaketen mit 2 bzw. 3 Std./Tag können die Trainingseinheiten auf Vormittag und/oder Nachmittag gelegt werden. Die Anreise (nicht im Preis inbegriffen!) erfolgt mit eigenen PKWs. \nAnmeldeschluss: Dienstag\, den 7. Februar 2023 \n*Die Nicht-Trainingsteilnehmer möchten sich bitte für einen neuen Reisepreis bei mir melden!\n*Eine Reiserücktrittsversicherung ist nicht im Preis inbegriffen und muss selbstständig abgeschlossen werden!
URL:https://tc-erdmannhausen.de/event/tenniscamp-sportreise-pfingstferien-2023
END:VEVENT
END:VCALENDAR